Package: CoSIAdata Version: 1.6.0 Command: /home/biocbuild/bbs-3.20-bioc/R/bin/R CMD build --keep-empty-dirs --no-resave-data CoSIAdata StartedAt: 2025-02-06 11:09:39 -0500 (Thu, 06 Feb 2025) EndedAt: 2025-02-06 11:10:01 -0500 (Thu, 06 Feb 2025) EllapsedTime: 22.4 seconds RetCode: 0 Status: OK PackageFile: CoSIAdata_1.6.0.tar.gz PackageFileSize: 296.7 KiB