Package: CoSIAdata Version: 1.6.0 Command: /home/biocbuild/bbs-3.20-bioc/R/bin/R CMD INSTALL CoSIAdata StartedAt: 2025-02-06 10:57:19 -0500 (Thu, 06 Feb 2025) EndedAt: 2025-02-06 10:57:34 -0500 (Thu, 06 Feb 2025) EllapsedTime: 14.8 seconds RetCode: 0 Status: OK