Package: CopyNeutralIMA Version: 1.24.0 Command: /home/biocbuild/bbs-3.20-bioc/R/bin/R CMD build --keep-empty-dirs --no-resave-data CopyNeutralIMA StartedAt: 2025-01-30 11:10:18 -0500 (Thu, 30 Jan 2025) EndedAt: 2025-01-30 11:13:41 -0500 (Thu, 30 Jan 2025) EllapsedTime: 203.7 seconds RetCode: 0 Status: OK PackageFile: CopyNeutralIMA_1.24.0.tar.gz PackageFileSize: 566.9 KiB