Package: CopyNeutralIMA Version: 1.24.0 Command: /home/biocbuild/bbs-3.20-bioc/R/bin/R CMD check --install=check:CopyNeutralIMA.install-out.txt --library=/home/biocbuild/bbs-3.20-bioc/R/site-library --timings CopyNeutralIMA_1.24.0.tar.gz StartedAt: 2025-01-30 11:52:47 -0500 (Thu, 30 Jan 2025) EndedAt: 2025-01-30 11:58:04 -0500 (Thu, 30 Jan 2025) EllapsedTime: 317.2 seconds RetCode: 0 Status: OK CheckDir: CopyNeutralIMA.Rcheck Warnings: 0