Package: CytoMethIC Version: 1.2.0 Command: /home/biocbuild/bbs-3.20-bioc/R/bin/R CMD build --keep-empty-dirs --no-resave-data CytoMethIC StartedAt: 2025-02-06 11:11:47 -0500 (Thu, 06 Feb 2025) EndedAt: 2025-02-06 11:13:05 -0500 (Thu, 06 Feb 2025) EllapsedTime: 78.0 seconds RetCode: 1 Status: ERROR PackageFile: None PackageFileSize: NA