Package: CytoMethIC Version: 1.2.0 Command: /home/biocbuild/bbs-3.20-bioc/R/bin/R CMD check --install=check:CytoMethIC.install-out.txt --library=/home/biocbuild/bbs-3.20-bioc/R/site-library --timings CytoMethIC_1.2.0.tar.gz StartedAt: 2024-12-24 11:53:19 -0500 (Tue, 24 Dec 2024) EndedAt: 2024-12-24 11:57:47 -0500 (Tue, 24 Dec 2024) EllapsedTime: 268.0 seconds RetCode: 0 Status: OK CheckDir: CytoMethIC.Rcheck Warnings: 0