Package: CytoMethIC Version: 1.2.0 Command: /home/biocbuild/bbs-3.20-bioc/R/bin/R CMD INSTALL CytoMethIC StartedAt: 2025-02-06 11:04:53 -0500 (Thu, 06 Feb 2025) EndedAt: 2025-02-06 11:05:18 -0500 (Thu, 06 Feb 2025) EllapsedTime: 24.5 seconds RetCode: 0 Status: OK