Package: DAPARdata Version: 1.36.0 Command: /home/biocbuild/bbs-3.20-bioc/R/bin/R CMD build --keep-empty-dirs --no-resave-data DAPARdata StartedAt: 2025-02-06 11:11:52 -0500 (Thu, 06 Feb 2025) EndedAt: 2025-02-06 11:12:33 -0500 (Thu, 06 Feb 2025) EllapsedTime: 41.0 seconds RetCode: 0 Status: OK PackageFile: DAPARdata_1.36.0.tar.gz PackageFileSize: 29.04 MiB