Package: DLBCL Version: 1.46.0 Command: /home/biocbuild/bbs-3.20-bioc/R/bin/R CMD build --keep-empty-dirs --no-resave-data DLBCL StartedAt: 2025-02-06 11:13:17 -0500 (Thu, 06 Feb 2025) EndedAt: 2025-02-06 11:13:19 -0500 (Thu, 06 Feb 2025) EllapsedTime: 2.0 seconds RetCode: 0 Status: OK PackageFile: DLBCL_1.46.0.tar.gz PackageFileSize: 5.525 MiB