Package: DMRcatedata Version: 2.24.0 Maintainer: Tim Peters MaintainerEmail: t.peters at garvan.org.au git_url: https://git.bioconductor.org/packages/DMRcatedata git_branch: RELEASE_3_20 git_last_commit: 65477d6 git_last_commit_date: 2024-10-29 09:38:36 -0500 (Tue, 29 Oct 2024)