Package: DMRcatedata Version: 2.24.0 Command: /home/biocbuild/bbs-3.20-bioc/R/bin/R CMD build --keep-empty-dirs --no-resave-data DMRcatedata StartedAt: 2025-01-30 11:14:13 -0500 (Thu, 30 Jan 2025) EndedAt: 2025-01-30 11:15:07 -0500 (Thu, 30 Jan 2025) EllapsedTime: 53.7 seconds RetCode: 0 Status: OK PackageFile: DMRcatedata_2.24.0.tar.gz PackageFileSize: 119.9 KiB