Package: DMRcatedata Version: 2.24.0 Command: /home/biocbuild/bbs-3.20-bioc/R/bin/R CMD INSTALL DMRcatedata StartedAt: 2025-01-30 11:05:18 -0500 (Thu, 30 Jan 2025) EndedAt: 2025-01-30 11:05:54 -0500 (Thu, 30 Jan 2025) EllapsedTime: 35.8 seconds RetCode: 0 Status: OK