Package: DNAZooData Version: 1.6.0 Command: /home/biocbuild/bbs-3.20-bioc/R/bin/R CMD build --keep-empty-dirs --no-resave-data DNAZooData StartedAt: 2025-02-06 11:13:31 -0500 (Thu, 06 Feb 2025) EndedAt: 2025-02-06 11:14:09 -0500 (Thu, 06 Feb 2025) EllapsedTime: 37.6 seconds RetCode: 0 Status: OK PackageFile: DNAZooData_1.6.0.tar.gz PackageFileSize: 235.7 KiB