Package: DNAZooData Version: 1.6.0 Command: /home/biocbuild/bbs-3.20-bioc/R/bin/R CMD INSTALL DNAZooData StartedAt: 2025-02-06 11:00:42 -0500 (Thu, 06 Feb 2025) EndedAt: 2025-02-06 11:01:06 -0500 (Thu, 06 Feb 2025) EllapsedTime: 24.1 seconds RetCode: 0 Status: OK