Package: DeSousa2013 Version: 1.42.0 Command: /home/biocbuild/bbs-3.20-bioc/R/bin/R CMD build --keep-empty-dirs --no-resave-data DeSousa2013 StartedAt: 2025-01-30 11:13:45 -0500 (Thu, 30 Jan 2025) EndedAt: 2025-01-30 11:14:34 -0500 (Thu, 30 Jan 2025) EllapsedTime: 48.3 seconds RetCode: 0 Status: OK PackageFile: DeSousa2013_1.42.0.tar.gz PackageFileSize: 44.76 MiB