Package: DeSousa2013 Version: 1.42.0 Command: /home/biocbuild/bbs-3.20-bioc/R/bin/R CMD check --install=check:DeSousa2013.install-out.txt --library=/home/biocbuild/bbs-3.20-bioc/R/site-library --timings DeSousa2013_1.42.0.tar.gz StartedAt: 2025-01-30 11:56:14 -0500 (Thu, 30 Jan 2025) EndedAt: 2025-01-30 12:00:39 -0500 (Thu, 30 Jan 2025) EllapsedTime: 265.1 seconds RetCode: 0 Status: OK CheckDir: DeSousa2013.Rcheck Warnings: 0