Package: DonaPLLP2013 Version: 1.44.0 Command: /home/biocbuild/bbs-3.20-bioc/R/bin/R CMD check --install=check:DonaPLLP2013.install-out.txt --library=/home/biocbuild/bbs-3.20-bioc/R/site-library --timings DonaPLLP2013_1.44.0.tar.gz StartedAt: 2025-02-06 11:56:43 -0500 (Thu, 06 Feb 2025) EndedAt: 2025-02-06 12:01:32 -0500 (Thu, 06 Feb 2025) EllapsedTime: 289.9 seconds RetCode: 0 Status: OK CheckDir: DonaPLLP2013.Rcheck Warnings: 0