Package: ELMER.data Version: 2.30.0 Command: /home/biocbuild/bbs-3.20-bioc/R/bin/R CMD build --keep-empty-dirs --no-resave-data ELMER.data StartedAt: 2025-01-30 11:15:02 -0500 (Thu, 30 Jan 2025) EndedAt: 2025-01-30 11:17:00 -0500 (Thu, 30 Jan 2025) EllapsedTime: 117.5 seconds RetCode: 0 Status: OK PackageFile: ELMER.data_2.30.0.tar.gz PackageFileSize: 293.4 MiB