Package: EpiMix.data Version: 1.8.0 Command: /home/biocbuild/bbs-3.20-bioc/R/bin/R CMD INSTALL EpiMix.data StartedAt: 2025-01-30 10:57:27 -0500 (Thu, 30 Jan 2025) EndedAt: 2025-01-30 10:57:40 -0500 (Thu, 30 Jan 2025) EllapsedTime: 13.6 seconds RetCode: 0 Status: OK