Package: FANTOM3and4CAGE Version: 1.42.0 Command: /home/biocbuild/bbs-3.20-bioc/R/bin/R CMD check --install=check:FANTOM3and4CAGE.install-out.txt --library=/home/biocbuild/bbs-3.20-bioc/R/site-library --timings FANTOM3and4CAGE_1.42.0.tar.gz StartedAt: 2025-01-30 12:02:39 -0500 (Thu, 30 Jan 2025) EndedAt: 2025-01-30 12:03:52 -0500 (Thu, 30 Jan 2025) EllapsedTime: 73.5 seconds RetCode: 0 Status: OK CheckDir: FANTOM3and4CAGE.Rcheck Warnings: 0