Package: FIs Version: 1.34.0 Command: /home/biocbuild/bbs-3.20-bioc/R/bin/R CMD check --install=check:FIs.install-out.txt --library=/home/biocbuild/bbs-3.20-bioc/R/site-library --timings FIs_1.34.0.tar.gz StartedAt: 2025-02-06 12:01:45 -0500 (Thu, 06 Feb 2025) EndedAt: 2025-02-06 12:01:55 -0500 (Thu, 06 Feb 2025) EllapsedTime: 10.0 seconds RetCode: 0 Status: OK CheckDir: FIs.Rcheck Warnings: 0