Package: FIs Version: 1.34.0 Command: /home/biocbuild/bbs-3.20-bioc/R/bin/R CMD INSTALL FIs StartedAt: 2025-02-06 10:55:52 -0500 (Thu, 06 Feb 2025) EndedAt: 2025-02-06 10:55:53 -0500 (Thu, 06 Feb 2025) EllapsedTime: 1.4 seconds RetCode: 0 Status: OK