Package: Fletcher2013b Version: 1.42.0 Command: /home/biocbuild/bbs-3.20-bioc/R/bin/R CMD build --keep-empty-dirs --no-resave-data Fletcher2013b StartedAt: 2025-02-06 11:15:53 -0500 (Thu, 06 Feb 2025) EndedAt: 2025-02-06 11:16:42 -0500 (Thu, 06 Feb 2025) EllapsedTime: 49.0 seconds RetCode: 0 Status: OK PackageFile: Fletcher2013b_1.42.0.tar.gz PackageFileSize: 263.6 MiB