Package: Fletcher2013b Version: 1.42.0 Command: /home/biocbuild/bbs-3.20-bioc/R/bin/R CMD INSTALL Fletcher2013b StartedAt: 2025-01-30 10:59:47 -0500 (Thu, 30 Jan 2025) EndedAt: 2025-01-30 11:00:14 -0500 (Thu, 30 Jan 2025) EllapsedTime: 26.6 seconds RetCode: 0 Status: OK