Package: FlowSorted.Blood.450k Version: 1.44.0 Maintainer: Andrew E Jaffe MaintainerEmail: andrew.jaffe at libd.org git_url: https://git.bioconductor.org/packages/FlowSorted.Blood.450k git_branch: RELEASE_3_20 git_last_commit: 2971424 git_last_commit_date: 2024-10-29 09:37:31 -0500 (Tue, 29 Oct 2024)