Package: FlowSorted.Blood.450k Version: 1.44.0 Command: /home/biocbuild/bbs-3.20-bioc/R/bin/R CMD INSTALL FlowSorted.Blood.450k StartedAt: 2025-02-06 11:02:35 -0500 (Thu, 06 Feb 2025) EndedAt: 2025-02-06 11:03:44 -0500 (Thu, 06 Feb 2025) EllapsedTime: 68.8 seconds RetCode: 0 Status: OK