Package: FlowSorted.CordBloodCombined.450k Version: 1.22.0 Maintainer: Lucas A. Salas MaintainerEmail: lucas.a.salas.diaz at dartmouth.edu git_url: https://git.bioconductor.org/packages/FlowSorted.CordBloodCombined.450k git_branch: RELEASE_3_20 git_last_commit: 49b0426 git_last_commit_date: 2024-10-29 09:49:39 -0500 (Tue, 29 Oct 2024)