Package: GIGSEAdata Version: 1.24.0 Command: /home/biocbuild/bbs-3.20-bioc/R/bin/R CMD build --keep-empty-dirs --no-resave-data GIGSEAdata StartedAt: 2025-02-06 11:18:21 -0500 (Thu, 06 Feb 2025) EndedAt: 2025-02-06 11:18:30 -0500 (Thu, 06 Feb 2025) EllapsedTime: 8.6 seconds RetCode: 0 Status: OK PackageFile: GIGSEAdata_1.24.0.tar.gz PackageFileSize: 6.188 MiB