Package: GSVAdata Version: 1.42.0 Command: /home/biocbuild/bbs-3.20-bioc/R/bin/R CMD build --keep-empty-dirs --no-resave-data GSVAdata StartedAt: 2025-02-11 11:18:58 -0500 (Tue, 11 Feb 2025) EndedAt: 2025-02-11 11:19:01 -0500 (Tue, 11 Feb 2025) EllapsedTime: 3.3 seconds RetCode: 0 Status: OK PackageFile: GSVAdata_1.42.0.tar.gz PackageFileSize: 17.08 MiB