Package: GWASdata Version: 1.44.0 Command: /home/biocbuild/bbs-3.20-bioc/R/bin/R CMD check --install=check:GWASdata.install-out.txt --library=/home/biocbuild/bbs-3.20-bioc/R/site-library --timings GWASdata_1.44.0.tar.gz StartedAt: 2025-02-06 12:06:25 -0500 (Thu, 06 Feb 2025) EndedAt: 2025-02-06 12:07:04 -0500 (Thu, 06 Feb 2025) EllapsedTime: 39.0 seconds RetCode: 0 Status: OK CheckDir: GWASdata.Rcheck Warnings: 0