Package: GenomicDistributionsData Version: 1.14.0 Command: /home/biocbuild/bbs-3.20-bioc/R/bin/R CMD INSTALL GenomicDistributionsData StartedAt: 2025-02-06 11:01:55 -0500 (Thu, 06 Feb 2025) EndedAt: 2025-02-06 11:02:32 -0500 (Thu, 06 Feb 2025) EllapsedTime: 36.9 seconds RetCode: 0 Status: OK