Package: GeuvadisTranscriptExpr Version: 1.34.0 Command: /home/biocbuild/bbs-3.20-bioc/R/bin/R CMD check --install=check:GeuvadisTranscriptExpr.install-out.txt --library=/home/biocbuild/bbs-3.20-bioc/R/site-library --timings GeuvadisTranscriptExpr_1.34.0.tar.gz StartedAt: 2025-02-11 12:07:50 -0500 (Tue, 11 Feb 2025) EndedAt: 2025-02-11 12:08:56 -0500 (Tue, 11 Feb 2025) EllapsedTime: 66.2 seconds RetCode: 0 Status: OK CheckDir: GeuvadisTranscriptExpr.Rcheck Warnings: 0