Package: HCAData Version: 1.22.0 Command: /home/biocbuild/bbs-3.20-bioc/R/bin/R CMD INSTALL HCAData StartedAt: 2025-01-30 11:03:58 -0500 (Thu, 30 Jan 2025) EndedAt: 2025-01-30 11:04:29 -0500 (Thu, 30 Jan 2025) EllapsedTime: 30.7 seconds RetCode: 0 Status: OK