Package: HCATonsilData Version: 1.4.0 Maintainer: Ramon Massoni-Badosa MaintainerEmail: ramonmassoni at gmail.com git_url: https://git.bioconductor.org/packages/HCATonsilData git_branch: RELEASE_3_20 git_last_commit: 76f3287 git_last_commit_date: 2024-10-29 09:54:58 -0500 (Tue, 29 Oct 2024)