Package: HCATonsilData Version: 1.4.0 Command: /home/biocbuild/bbs-3.20-bioc/R/bin/R CMD build --keep-empty-dirs --no-resave-data HCATonsilData StartedAt: 2025-01-30 11:21:07 -0500 (Thu, 30 Jan 2025) EndedAt: 2025-01-30 11:22:27 -0500 (Thu, 30 Jan 2025) EllapsedTime: 80.1 seconds RetCode: 0 Status: OK PackageFile: HCATonsilData_1.4.0.tar.gz PackageFileSize: 6.268 MiB