Package: HCATonsilData Version: 1.4.0 Command: /home/biocbuild/bbs-3.20-bioc/R/bin/R CMD check --install=check:HCATonsilData.install-out.txt --library=/home/biocbuild/bbs-3.20-bioc/R/site-library --timings HCATonsilData_1.4.0.tar.gz StartedAt: 2025-01-30 12:09:07 -0500 (Thu, 30 Jan 2025) EndedAt: 2025-01-30 12:13:56 -0500 (Thu, 30 Jan 2025) EllapsedTime: 289.1 seconds RetCode: 0 Status: OK CheckDir: HCATonsilData.Rcheck Warnings: 0