Package: HCATonsilData Version: 1.4.0 Command: /home/biocbuild/bbs-3.20-bioc/R/bin/R CMD INSTALL HCATonsilData StartedAt: 2025-01-30 11:04:17 -0500 (Thu, 30 Jan 2025) EndedAt: 2025-01-30 11:04:50 -0500 (Thu, 30 Jan 2025) EllapsedTime: 32.4 seconds RetCode: 0 Status: OK