Package: HDCytoData Version: 1.26.0 Command: /home/biocbuild/bbs-3.20-bioc/R/bin/R CMD check --install=check:HDCytoData.install-out.txt --library=/home/biocbuild/bbs-3.20-bioc/R/site-library --timings HDCytoData_1.26.0.tar.gz StartedAt: 2025-02-06 12:08:02 -0500 (Thu, 06 Feb 2025) EndedAt: 2025-02-06 12:13:45 -0500 (Thu, 06 Feb 2025) EllapsedTime: 342.9 seconds RetCode: 0 Status: OK CheckDir: HDCytoData.Rcheck Warnings: 0