Package: HDCytoData Version: 1.26.0 Command: /home/biocbuild/bbs-3.20-bioc/R/bin/R CMD INSTALL HDCytoData StartedAt: 2025-02-06 11:04:28 -0500 (Thu, 06 Feb 2025) EndedAt: 2025-02-06 11:04:53 -0500 (Thu, 06 Feb 2025) EllapsedTime: 25.7 seconds RetCode: 0 Status: OK