Package: HMP16SData Version: 1.26.0 Maintainer: Lucas schiffer MaintainerEmail: schiffer.lucas at gmail.com git_url: https://git.bioconductor.org/packages/HMP16SData git_branch: RELEASE_3_20 git_last_commit: 9e1a30d git_last_commit_date: 2024-10-29 09:47:20 -0500 (Tue, 29 Oct 2024)