Package: HMP16SData Version: 1.26.0 Command: /home/biocbuild/bbs-3.20-bioc/R/bin/R CMD INSTALL HMP16SData StartedAt: 2025-02-11 10:58:49 -0500 (Tue, 11 Feb 2025) EndedAt: 2025-02-11 10:59:20 -0500 (Tue, 11 Feb 2025) EllapsedTime: 31.1 seconds RetCode: 0 Status: OK