Package: HMP2Data Version: 1.20.0 Command: /home/biocbuild/bbs-3.20-bioc/R/bin/R CMD check --install=check:HMP2Data.install-out.txt --library=/home/biocbuild/bbs-3.20-bioc/R/site-library --timings HMP2Data_1.20.0.tar.gz StartedAt: 2025-01-30 12:11:32 -0500 (Thu, 30 Jan 2025) EndedAt: 2025-01-30 12:16:16 -0500 (Thu, 30 Jan 2025) EllapsedTime: 284.4 seconds RetCode: 0 Status: OK CheckDir: HMP2Data.Rcheck Warnings: 0