Package: HMP2Data Version: 1.20.0 Command: /home/biocbuild/bbs-3.20-bioc/R/bin/R CMD INSTALL HMP2Data StartedAt: 2025-01-30 11:01:39 -0500 (Thu, 30 Jan 2025) EndedAt: 2025-01-30 11:02:16 -0500 (Thu, 30 Jan 2025) EllapsedTime: 36.6 seconds RetCode: 0 Status: OK