Package: HiBED Version: 1.4.0 Command: /home/biocbuild/bbs-3.20-bioc/R/bin/R CMD build --keep-empty-dirs --no-resave-data HiBED StartedAt: 2025-02-06 11:21:57 -0500 (Thu, 06 Feb 2025) EndedAt: 2025-02-06 11:23:07 -0500 (Thu, 06 Feb 2025) EllapsedTime: 70.7 seconds RetCode: 0 Status: OK PackageFile: HiBED_1.4.0.tar.gz PackageFileSize: 40.92 KiB