Package: HiCDataLymphoblast Version: 1.42.0 Command: /home/biocbuild/bbs-3.20-bioc/R/bin/R CMD INSTALL HiCDataLymphoblast StartedAt: 2025-02-11 10:55:33 -0500 (Tue, 11 Feb 2025) EndedAt: 2025-02-11 10:55:34 -0500 (Tue, 11 Feb 2025) EllapsedTime: 1.5 seconds RetCode: 0 Status: OK