Package: HiContactsData Version: 1.8.0 Command: /home/biocbuild/bbs-3.20-bioc/R/bin/R CMD INSTALL HiContactsData StartedAt: 2025-01-30 10:57:03 -0500 (Thu, 30 Jan 2025) EndedAt: 2025-01-30 10:57:17 -0500 (Thu, 30 Jan 2025) EllapsedTime: 14.6 seconds RetCode: 0 Status: OK