Package: Hiiragi2013 Version: 1.42.0 Command: /home/biocbuild/bbs-3.20-bioc/R/bin/R CMD INSTALL Hiiragi2013 StartedAt: 2025-02-11 10:57:30 -0500 (Tue, 11 Feb 2025) EndedAt: 2025-02-11 10:57:48 -0500 (Tue, 11 Feb 2025) EllapsedTime: 17.8 seconds RetCode: 0 Status: OK