Package: ITALICSData Version: 2.44.0 Command: /home/biocbuild/bbs-3.20-bioc/R/bin/R CMD check --install=check:ITALICSData.install-out.txt --library=/home/biocbuild/bbs-3.20-bioc/R/site-library --timings ITALICSData_2.44.0.tar.gz StartedAt: 2025-01-30 12:14:14 -0500 (Thu, 30 Jan 2025) EndedAt: 2025-01-30 12:14:33 -0500 (Thu, 30 Jan 2025) EllapsedTime: 18.6 seconds RetCode: 0 Status: WARNINGS CheckDir: ITALICSData.Rcheck Warnings: 1