Package: KEGGdzPathwaysGEO Version: 1.44.0 Command: /home/biocbuild/bbs-3.20-bioc/R/bin/R CMD build --keep-empty-dirs --no-resave-data KEGGdzPathwaysGEO StartedAt: 2025-02-06 11:23:44 -0500 (Thu, 06 Feb 2025) EndedAt: 2025-02-06 11:24:04 -0500 (Thu, 06 Feb 2025) EllapsedTime: 19.3 seconds RetCode: 0 Status: OK PackageFile: KEGGdzPathwaysGEO_1.44.0.tar.gz PackageFileSize: 300.1 MiB