Package: KEGGdzPathwaysGEO Version: 1.44.0 Command: /home/biocbuild/bbs-3.20-bioc/R/bin/R CMD check --install=check:KEGGdzPathwaysGEO.install-out.txt --library=/home/biocbuild/bbs-3.20-bioc/R/site-library --timings KEGGdzPathwaysGEO_1.44.0.tar.gz StartedAt: 2025-02-11 12:15:40 -0500 (Tue, 11 Feb 2025) EndedAt: 2025-02-11 12:20:30 -0500 (Tue, 11 Feb 2025) EllapsedTime: 290.0 seconds RetCode: 0 Status: OK CheckDir: KEGGdzPathwaysGEO.Rcheck Warnings: 0